BEGIN:VCALENDAR
VERSION:2.0
PRODID:-//wp-events-plugin.com//7.2.2.1//EN
TZID:Europe/Prague
X-WR-TIMEZONE:Europe/Prague
BEGIN:VEVENT
UID:995@jitcinajoga.cz
DTSTART;TZID=Europe/Prague:20260920T100000
DTEND;TZID=Europe/Prague:20260920T130000
DTSTAMP:20260324T180053Z
URL:https://www.jitcinajoga.cz/events/seminar-oblicejove-jogy-praha-zari-2
 026/
SUMMARY:Seminář obličejové jógy – Praha 7
DESCRIPTION:Zvu Tě na praktický seminář obličejové jógy v Praze\, kd
 e se vše naučíš krok za krokem\, vyzkoušíš si správnou techniku a 
 odneseš si jasný plán pro domácí praxi. Odcházet budeš s lehkostí 
 a jistotou\, že víš\, jak o svůj obličej pečovat přirozeně.
ATTACH;FMTTYPE=image/jpeg:https://www.jitcinajoga.cz/wp-content/uploads/20
 25/05/2024_Udalost_WEB-2.png
CATEGORIES:Obličejová jóga,Studiové kurzy
LOCATION:Pohled pracoviště\, Letohradská 16\, Praha 7 - Letná\, Česká
  republika
X-APPLE-STRUCTURED-LOCATION;VALUE=URI;X-ADDRESS=Letohradská 16\, Praha 7 -
  Letná\, Česká republika;X-APPLE-RADIUS=100;X-TITLE=Pohled pracoviště
 :geo:0,0
END:VEVENT
BEGIN:VTIMEZONE
TZID:Europe/Prague
X-LIC-LOCATION:Europe/Prague
BEGIN:DAYLIGHT
DTSTART:20260329T030000
TZOFFSETFROM:+0100
TZOFFSETTO:+0200
TZNAME:CEST
END:DAYLIGHT
END:VTIMEZONE
END:VCALENDAR