BEGIN:VCALENDAR
VERSION:2.0
PRODID:-//wp-events-plugin.com//7.2.2.1//EN
TZID:Europe/Prague
X-WR-TIMEZONE:Europe/Prague
BEGIN:VEVENT
UID:997@jitcinajoga.cz
DTSTART;TZID=Europe/Prague:20260919T100000
DTEND;TZID=Europe/Prague:20260919T183000
DTSTAMP:20260324T182606Z
URL:https://www.jitcinajoga.cz/events/seminar-hormonalni-jogy-pro-zeny-pra
 ha-zari-2026/
SUMMARY:Seminář hormonální jógy – Praha 7
DESCRIPTION:Zvu Tě na seminář hormonální jógy v Praze\, kde se nauč
 íš jemnou\, ale účinnou sestavu cviků podporujících hormonální ro
 vnováhu i zdraví ženy. Odneseš si nástroj\, který Ti dodá více ene
 rgie\, sníží stres a přinese úlevu od ženských potíží – od PMS
  a menopauzy až po obtíže se štítnou žlázou či plodností.
ATTACH;FMTTYPE=image/jpeg:https://www.jitcinajoga.cz/wp-content/uploads/20
 24/05/3.webp
CATEGORIES:Hormonální jóga,Studiové kurzy
LOCATION:Pohled pracoviště\, Letohradská 16\, Praha 7 - Letná\, Česká
  republika
X-APPLE-STRUCTURED-LOCATION;VALUE=URI;X-ADDRESS=Letohradská 16\, Praha 7 -
  Letná\, Česká republika;X-APPLE-RADIUS=100;X-TITLE=Pohled pracoviště
 :geo:0,0
END:VEVENT
BEGIN:VTIMEZONE
TZID:Europe/Prague
X-LIC-LOCATION:Europe/Prague
BEGIN:DAYLIGHT
DTSTART:20260329T030000
TZOFFSETFROM:+0100
TZOFFSETTO:+0200
TZNAME:CEST
END:DAYLIGHT
END:VTIMEZONE
END:VCALENDAR