BEGIN:VCALENDAR
VERSION:2.0
PRODID:-//wp-events-plugin.com//7.2.2.1//EN
TZID:Europe/Prague
X-WR-TIMEZONE:Europe/Prague
BEGIN:VEVENT
UID:999@jitcinajoga.cz
DTSTART;TZID=Europe/Prague:20260426T190000
DTEND;TZID=Europe/Prague:20260426T201500
DTSTAMP:20260422T165914Z
URL:https://www.jitcinajoga.cz/events/manualni-masaze-obliceje-krku-a-deko
 ltu-online-lekce-pro-tebe/
SUMMARY:Masáže obličeje\, krku a dekoltu – online lekce pro Tebe
DESCRIPTION:Podpoř svou přirozenou krásu. Bez tlaku. S lehkostí.\nJeden
  večer\, který může změnit způsob\, jak pečuješ o svou tvář. Ž
 ádné složitosti\, žádné náročné postupy…\njen masáže a vědom
 ý dotek\, které uvolní napětí\, rozzáří pleť a vrátí jí svěž
 est.
ATTACH;FMTTYPE=image/jpeg:https://www.jitcinajoga.cz/wp-content/uploads/20
 26/04/udalosti-20-scaled.png
CATEGORIES:Online akce
LOCATION:V pohodlí vašeho domova\, V pohodlí vašeho domova\, ONLINE ŽI
 VĚ\, Česká republika
X-APPLE-STRUCTURED-LOCATION;VALUE=URI;X-ADDRESS=V pohodlí vašeho domova\,
  ONLINE ŽIVĚ\, Česká republika;X-APPLE-RADIUS=100;X-TITLE=V pohodlí v
 ašeho domova:geo:0,0
END:VEVENT
BEGIN:VTIMEZONE
TZID:Europe/Prague
X-LIC-LOCATION:Europe/Prague
BEGIN:DAYLIGHT
DTSTART:20260329T030000
TZOFFSETFROM:+0100
TZOFFSETTO:+0200
TZNAME:CEST
END:DAYLIGHT
END:VTIMEZONE
END:VCALENDAR